BEGIN:VCALENDAR
VERSION:2.0
PRODID:-//Eguilles Foyer rural - ECPv6.2.9//NONSGML v1.0//EN
CALSCALE:GREGORIAN
METHOD:PUBLISH
X-ORIGINAL-URL:https://efr.foyersruraux.org
X-WR-CALDESC:évènements pour Eguilles Foyer rural
REFRESH-INTERVAL;VALUE=DURATION:PT1H
X-Robots-Tag:noindex
X-PUBLISHED-TTL:PT1H
BEGIN:VTIMEZONE
TZID:Europe/Paris
BEGIN:DAYLIGHT
TZOFFSETFROM:+0100
TZOFFSETTO:+0200
TZNAME:CEST
DTSTART:20260329T010000
END:DAYLIGHT
BEGIN:STANDARD
TZOFFSETFROM:+0200
TZOFFSETTO:+0100
TZNAME:CET
DTSTART:20261025T010000
END:STANDARD
END:VTIMEZONE
BEGIN:VEVENT
DTSTART;TZID=Europe/Paris:20260529T200000
DTEND;TZID=Europe/Paris:20260529T220000
DTSTAMP:20260425T002055
CREATED:20260421T115116Z
LAST-MODIFIED:20260421T162112Z
UID:10001779-1780084800-1780092000@efr.foyersruraux.org
SUMMARY:Grande représentation de Chorale
DESCRIPTION:Vendredi 29 mai 20h Espace Duby Représentation de Chorale \nSoirée Chorale haute en émotions et en surprises !\nLes chorales d’ Eguilles Foyer Rural\, de Lascours et de Ryans vous propose une chorale immersive et vivante. Un univers musical riche\, classique et variétés avec notre chef de chœur passionné Boris !\nEn bonus Irina\, Vagan et Maria vous interpréteront de grands airs d’Opéra.\nL’entrée est en participation libre. Une partie des recettes du spectacles sont reversées à l’Unicef pour les enfants du Monde. \nLien évènement FB : https://fb.me/e/7fccNXIE4
URL:https://efr.foyersruraux.org/evenement/grande-representation-de-chorale/
LOCATION:Salle Dijak salle de spectacle espace Duby\, Avenue Paul Magallon\, Eguilles\, 13510\, France
CATEGORIES:Soirée festive
ORGANIZER;CN="EFR":MAILTO:contact.efr@ik.me
END:VEVENT
END:VCALENDAR